BEGIN:VCALENDAR
VERSION:2.0
PRODID:-//Solna FRK - ECPv6.15.18//NONSGML v1.0//EN
CALSCALE:GREGORIAN
METHOD:PUBLISH
X-WR-CALNAME:Solna FRK
X-ORIGINAL-URL:https://sfrk.nu
X-WR-CALDESC:Händelser för Solna FRK
REFRESH-INTERVAL;VALUE=DURATION:PT1H
X-Robots-Tag:noindex
X-PUBLISHED-TTL:PT1H
BEGIN:VTIMEZONE
TZID:Europe/Stockholm
BEGIN:DAYLIGHT
TZOFFSETFROM:+0100
TZOFFSETTO:+0200
TZNAME:CEST
DTSTART:20220327T010000
END:DAYLIGHT
BEGIN:STANDARD
TZOFFSETFROM:+0200
TZOFFSETTO:+0100
TZNAME:CET
DTSTART:20221030T010000
END:STANDARD
BEGIN:DAYLIGHT
TZOFFSETFROM:+0100
TZOFFSETTO:+0200
TZNAME:CEST
DTSTART:20230326T010000
END:DAYLIGHT
BEGIN:STANDARD
TZOFFSETFROM:+0200
TZOFFSETTO:+0100
TZNAME:CET
DTSTART:20231029T010000
END:STANDARD
BEGIN:DAYLIGHT
TZOFFSETFROM:+0100
TZOFFSETTO:+0200
TZNAME:CEST
DTSTART:20240331T010000
END:DAYLIGHT
BEGIN:STANDARD
TZOFFSETFROM:+0200
TZOFFSETTO:+0100
TZNAME:CET
DTSTART:20241027T010000
END:STANDARD
END:VTIMEZONE
BEGIN:VEVENT
DTSTART;TZID=Europe/Stockholm:20231104T080000
DTEND;TZID=Europe/Stockholm:20231104T170000
DTSTAMP:20260421T133902
CREATED:20230830T173422Z
LAST-MODIFIED:20230830T173422Z
UID:3927-1699084800-1699117200@sfrk.nu
SUMMARY:Ponnykurs
DESCRIPTION:
URL:https://sfrk.nu/kalender/ponnykurs/
END:VEVENT
BEGIN:VEVENT
DTSTART;TZID=Europe/Stockholm:20231105T080000
DTEND;TZID=Europe/Stockholm:20231105T170000
DTSTAMP:20260421T133902
CREATED:20230830T173502Z
LAST-MODIFIED:20230914T180235Z
UID:3929-1699171200-1699203600@sfrk.nu
SUMMARY:Extraridning
DESCRIPTION:
URL:https://sfrk.nu/kalender/extratraning/
END:VEVENT
BEGIN:VEVENT
DTSTART;TZID=Europe/Stockholm:20231112T080000
DTEND;TZID=Europe/Stockholm:20231112T170000
DTSTAMP:20260421T133902
CREATED:20230830T173553Z
LAST-MODIFIED:20230914T174258Z
UID:3931-1699776000-1699808400@sfrk.nu
SUMMARY:Klubbtävling dressyr LättC-lätt D
DESCRIPTION:
URL:https://sfrk.nu/kalender/klubbtavling-dressyr-lattc-latt-d/
END:VEVENT
BEGIN:VEVENT
DTSTART;TZID=Europe/Stockholm:20231112T130000
DTEND;TZID=Europe/Stockholm:20231112T170000
DTSTAMP:20260421T133902
CREATED:20230905T125342Z
LAST-MODIFIED:20230905T125344Z
UID:3967-1699794000-1699808400@sfrk.nu
SUMMARY:Pluggstuga
DESCRIPTION:⭐️Varmt välkomna på USEKs Pluggstugor! Under dagen pluggar och hänger vi med er i klubbis.Vi kommer att starta upp runt 13.00 och avluta när stallet stänger omkring 17.00. Aktiviteten kräver ingen anmälan och ni kan därför gå och komma som ni vill under dagen. Hoppas vi ses där!
URL:https://sfrk.nu/kalender/pluggstuga-10/
END:VEVENT
BEGIN:VEVENT
DTSTART;TZID=Europe/Stockholm:20231119T080000
DTEND;TZID=Europe/Stockholm:20231119T170000
DTSTAMP:20260421T133902
CREATED:20230830T173655Z
LAST-MODIFIED:20230830T173655Z
UID:3933-1700380800-1700413200@sfrk.nu
SUMMARY:Klubbtävling hoppning
DESCRIPTION:KM?
URL:https://sfrk.nu/kalender/klubbtavling-hoppning/
END:VEVENT
BEGIN:VEVENT
DTSTART;TZID=Europe/Stockholm:20231126T080000
DTEND;TZID=Europe/Stockholm:20231126T170000
DTSTAMP:20260421T133902
CREATED:20230830T173755Z
LAST-MODIFIED:20230830T173755Z
UID:3935-1700985600-1701018000@sfrk.nu
SUMMARY:Evahoppning
DESCRIPTION:Specialträning med Eva Bengtsson
URL:https://sfrk.nu/kalender/evahoppning-3/
END:VEVENT
END:VCALENDAR