BEGIN:VCALENDAR
VERSION:2.0
PRODID:-//Solna FRK - ECPv6.15.18//NONSGML v1.0//EN
CALSCALE:GREGORIAN
METHOD:PUBLISH
X-WR-CALNAME:Solna FRK
X-ORIGINAL-URL:https://sfrk.nu
X-WR-CALDESC:Händelser för Solna FRK
REFRESH-INTERVAL;VALUE=DURATION:PT1H
X-Robots-Tag:noindex
X-PUBLISHED-TTL:PT1H
BEGIN:VTIMEZONE
TZID:Europe/Stockholm
BEGIN:DAYLIGHT
TZOFFSETFROM:+0100
TZOFFSETTO:+0200
TZNAME:CEST
DTSTART:20220327T010000
END:DAYLIGHT
BEGIN:STANDARD
TZOFFSETFROM:+0200
TZOFFSETTO:+0100
TZNAME:CET
DTSTART:20221030T010000
END:STANDARD
BEGIN:DAYLIGHT
TZOFFSETFROM:+0100
TZOFFSETTO:+0200
TZNAME:CEST
DTSTART:20230326T010000
END:DAYLIGHT
BEGIN:STANDARD
TZOFFSETFROM:+0200
TZOFFSETTO:+0100
TZNAME:CET
DTSTART:20231029T010000
END:STANDARD
BEGIN:DAYLIGHT
TZOFFSETFROM:+0100
TZOFFSETTO:+0200
TZNAME:CEST
DTSTART:20240331T010000
END:DAYLIGHT
BEGIN:STANDARD
TZOFFSETFROM:+0200
TZOFFSETTO:+0100
TZNAME:CET
DTSTART:20241027T010000
END:STANDARD
END:VTIMEZONE
BEGIN:VEVENT
DTSTART;TZID=Europe/Stockholm:20231001T080000
DTEND;TZID=Europe/Stockholm:20231001T170000
DTSTAMP:20260421T150253
CREATED:20230830T172906Z
LAST-MODIFIED:20230830T172906Z
UID:3917-1696147200-1696179600@sfrk.nu
SUMMARY:SFRK lokal dressyrtävling
DESCRIPTION:
URL:https://sfrk.nu/kalender/sfrk-lokal-dressyrtavling/
END:VEVENT
BEGIN:VEVENT
DTSTART;TZID=Europe/Stockholm:20231008T080000
DTEND;TZID=Europe/Stockholm:20231008T170000
DTSTAMP:20260421T150253
CREATED:20230830T172951Z
LAST-MODIFIED:20230830T172951Z
UID:3919-1696752000-1696784400@sfrk.nu
SUMMARY:SFRK lokal hopptävling
DESCRIPTION:
URL:https://sfrk.nu/kalender/sfrk-lokal-hopptavling/
END:VEVENT
BEGIN:VEVENT
DTSTART;TZID=Europe/Stockholm:20231015T080000
DTEND;TZID=Europe/Stockholm:20231015T170000
DTSTAMP:20260421T150253
CREATED:20230830T173103Z
LAST-MODIFIED:20230830T173103Z
UID:3921-1697356800-1697389200@sfrk.nu
SUMMARY:Klubbtävling dressyr Lätt C-Lätt D
DESCRIPTION:
URL:https://sfrk.nu/kalender/klubbtavling-dressyr-latt-c-latt-d/
END:VEVENT
BEGIN:VEVENT
DTSTART;TZID=Europe/Stockholm:20231015T130000
DTEND;TZID=Europe/Stockholm:20231015T170000
DTSTAMP:20260421T150253
CREATED:20230905T125253Z
LAST-MODIFIED:20230905T125255Z
UID:3965-1697374800-1697389200@sfrk.nu
SUMMARY:Pluggstuga
DESCRIPTION:⭐️Varmt välkomna på USEKs Pluggstugor! Under dagen pluggar och hänger vi med er i klubbis.Vi kommer att starta upp runt 13.00 och avluta när stallet stänger omkring 17.00. Aktiviteten kräver ingen anmälan och ni kan därför gå och komma som ni vill under dagen. Hoppas vi ses där!
URL:https://sfrk.nu/kalender/pluggstuga-9/
END:VEVENT
BEGIN:VEVENT
DTSTART;TZID=Europe/Stockholm:20231022T080000
DTEND;TZID=Europe/Stockholm:20231022T170000
DTSTAMP:20260421T150253
CREATED:20230830T173209Z
LAST-MODIFIED:20230830T173209Z
UID:3923-1697961600-1697994000@sfrk.nu
SUMMARY:Evahoppning
DESCRIPTION:Specialhoppträning med Eva Bengtsson
URL:https://sfrk.nu/kalender/evahoppning-2/
END:VEVENT
BEGIN:VEVENT
DTSTART;TZID=Europe/Stockholm:20231029T080000
DTEND;TZID=Europe/Stockholm:20231029T170000
DTSTAMP:20260421T150253
CREATED:20230830T173321Z
LAST-MODIFIED:20230830T173321Z
UID:3925-1698566400-1698598800@sfrk.nu
SUMMARY:Klubbtävling dressyr Lätt C\, lätt B och lätt A
DESCRIPTION:
URL:https://sfrk.nu/kalender/klubbtavling-dressyr-latt-c-latt-b-och-latt-a/
END:VEVENT
END:VCALENDAR