BEGIN:VCALENDAR
VERSION:2.0
PRODID:-//Solna FRK - ECPv6.15.18//NONSGML v1.0//EN
CALSCALE:GREGORIAN
METHOD:PUBLISH
X-WR-CALNAME:Solna FRK
X-ORIGINAL-URL:https://sfrk.nu
X-WR-CALDESC:Händelser för Solna FRK
REFRESH-INTERVAL;VALUE=DURATION:PT1H
X-Robots-Tag:noindex
X-PUBLISHED-TTL:PT1H
BEGIN:VTIMEZONE
TZID:Europe/Stockholm
BEGIN:DAYLIGHT
TZOFFSETFROM:+0100
TZOFFSETTO:+0200
TZNAME:CEST
DTSTART:20220327T010000
END:DAYLIGHT
BEGIN:STANDARD
TZOFFSETFROM:+0200
TZOFFSETTO:+0100
TZNAME:CET
DTSTART:20221030T010000
END:STANDARD
BEGIN:DAYLIGHT
TZOFFSETFROM:+0100
TZOFFSETTO:+0200
TZNAME:CEST
DTSTART:20230326T010000
END:DAYLIGHT
BEGIN:STANDARD
TZOFFSETFROM:+0200
TZOFFSETTO:+0100
TZNAME:CET
DTSTART:20231029T010000
END:STANDARD
BEGIN:DAYLIGHT
TZOFFSETFROM:+0100
TZOFFSETTO:+0200
TZNAME:CEST
DTSTART:20240331T010000
END:DAYLIGHT
BEGIN:STANDARD
TZOFFSETFROM:+0200
TZOFFSETTO:+0100
TZNAME:CET
DTSTART:20241027T010000
END:STANDARD
END:VTIMEZONE
BEGIN:VEVENT
DTSTART;TZID=Europe/Stockholm:20230903T103000
DTEND;TZID=Europe/Stockholm:20230903T130000
DTSTAMP:20260421T162810
CREATED:20230713T181658Z
LAST-MODIFIED:20230713T181700Z
UID:3784-1693737000-1693746000@sfrk.nu
SUMMARY:Invigningsshow Gula Ridhuset
DESCRIPTION:Efter ett år av takarbeten och renoveringar är det äntligen dags. Vi firar med en nyinvigning av det gula ridhuset! \n\n\n\nEfter traditionsenlig bandklippning bjuder vi på en festlig\, underhållande show för hela familjen.  \n\n\n\nAlla är välkomna! \n\n\n\nFiket är öppet hela dagen. Som vanligt går alla pengarna till Ungdomssektionen och deras verksamhet.
URL:https://sfrk.nu/kalender/invigningsshow-gula-ridhuset/
END:VEVENT
BEGIN:VEVENT
DTSTART;TZID=Europe/Stockholm:20230909T130000
DTEND;TZID=Europe/Stockholm:20230909T160000
DTSTAMP:20260421T162810
CREATED:20230713T182424Z
LAST-MODIFIED:20230713T182426Z
UID:3786-1694264400-1694275200@sfrk.nu
SUMMARY:Utbildning för alla!
DESCRIPTION:Välkommen till en utbildning med fokus på att öka tryggheten och trivseln i föreningen. \n\n\n\nUtbildningen är för alla! (juniorer\, seniorer\, föräldrar) \n\n\n\nExempel på frågor som kommer att tas upp under dagen:Hur kan vi verka utifrån ridsportens värdegrunder och ledstjärnor?Vad mår jag bra av och hur får jag andra att må bra?Hur är vi mot varandra på sociala medier? \n\n\n\nVi vill\, tillsammans med er\, arbeta för en tryggare ridsport! \n\n\n\nVälkommen! Med vänliga hälsningar Styrelsen
URL:https://sfrk.nu/kalender/utbildning-for-alla/
END:VEVENT
BEGIN:VEVENT
DTSTART;TZID=Europe/Stockholm:20230910T080000
DTEND;TZID=Europe/Stockholm:20230910T170000
DTSTAMP:20260421T162810
CREATED:20230830T172245Z
LAST-MODIFIED:20230830T172337Z
UID:3911-1694332800-1694365200@sfrk.nu
SUMMARY:Evahoppning
DESCRIPTION:Specialträning i hoppning med Eva Bengtsson
URL:https://sfrk.nu/kalender/evahoppning/
END:VEVENT
BEGIN:VEVENT
DTSTART;TZID=Europe/Stockholm:20230910T130000
DTEND;TZID=Europe/Stockholm:20230910T170000
DTSTAMP:20260421T162810
CREATED:20230905T125136Z
LAST-MODIFIED:20230905T125137Z
UID:3963-1694350800-1694365200@sfrk.nu
SUMMARY:Pluggstuga
DESCRIPTION:⭐️Varmt välkomna på USEKs Pluggstugor! Under dagen pluggar och hänger vi med er i klubbis.Vi kommer att starta upp runt 13.00 och avluta när stallet stänger omkring 17.00. Aktiviteten kräver ingen anmälan och ni kan därför gå och komma som ni vill under dagen. Hoppas vi ses där!
URL:https://sfrk.nu/kalender/pluggstuga-8/
END:VEVENT
BEGIN:VEVENT
DTSTART;TZID=Europe/Stockholm:20230917T080000
DTEND;TZID=Europe/Stockholm:20230917T170000
DTSTAMP:20260421T162810
CREATED:20230830T172602Z
LAST-MODIFIED:20230830T172602Z
UID:3913-1694937600-1694970000@sfrk.nu
SUMMARY:Dressyrträning
DESCRIPTION:Dressyrträning med BW
URL:https://sfrk.nu/kalender/dressyrtraning/
END:VEVENT
BEGIN:VEVENT
DTSTART;TZID=Europe/Stockholm:20230924T080000
DTEND;TZID=Europe/Stockholm:20230924T170000
DTSTAMP:20260421T162810
CREATED:20230830T172735Z
LAST-MODIFIED:20230830T172735Z
UID:3915-1695542400-1695574800@sfrk.nu
SUMMARY:Klubbtävling i hoppning
DESCRIPTION:
URL:https://sfrk.nu/kalender/klubbtavling-i-hoppning-4/
END:VEVENT
END:VCALENDAR