BEGIN:VCALENDAR
VERSION:2.0
PRODID:-//Solna FRK - ECPv6.15.18//NONSGML v1.0//EN
CALSCALE:GREGORIAN
METHOD:PUBLISH
X-WR-CALNAME:Solna FRK
X-ORIGINAL-URL:https://sfrk.nu
X-WR-CALDESC:Händelser för Solna FRK
REFRESH-INTERVAL;VALUE=DURATION:PT1H
X-Robots-Tag:noindex
X-PUBLISHED-TTL:PT1H
BEGIN:VTIMEZONE
TZID:Europe/Stockholm
BEGIN:DAYLIGHT
TZOFFSETFROM:+0100
TZOFFSETTO:+0200
TZNAME:CEST
DTSTART:20220327T010000
END:DAYLIGHT
BEGIN:STANDARD
TZOFFSETFROM:+0200
TZOFFSETTO:+0100
TZNAME:CET
DTSTART:20221030T010000
END:STANDARD
BEGIN:DAYLIGHT
TZOFFSETFROM:+0100
TZOFFSETTO:+0200
TZNAME:CEST
DTSTART:20230326T010000
END:DAYLIGHT
BEGIN:STANDARD
TZOFFSETFROM:+0200
TZOFFSETTO:+0100
TZNAME:CET
DTSTART:20231029T010000
END:STANDARD
BEGIN:DAYLIGHT
TZOFFSETFROM:+0100
TZOFFSETTO:+0200
TZNAME:CEST
DTSTART:20240331T010000
END:DAYLIGHT
BEGIN:STANDARD
TZOFFSETFROM:+0200
TZOFFSETTO:+0100
TZNAME:CET
DTSTART:20241027T010000
END:STANDARD
END:VTIMEZONE
BEGIN:VEVENT
DTSTART;TZID=Europe/Stockholm:20230604T080000
DTEND;TZID=Europe/Stockholm:20230604T170000
DTSTAMP:20260421T211725
CREATED:20230109T195943Z
LAST-MODIFIED:20230109T195945Z
UID:3138-1685865600-1685898000@sfrk.nu
SUMMARY:Klubbtävling LD\, special och LC junior
DESCRIPTION:
URL:https://sfrk.nu/kalender/klubbtavling-ld-special-och-lc-junior-3/
END:VEVENT
BEGIN:VEVENT
DTSTART;TZID=Europe/Stockholm:20230604T130000
DTEND;TZID=Europe/Stockholm:20230604T173000
DTSTAMP:20260421T211725
CREATED:20230312T095948Z
LAST-MODIFIED:20230312T095950Z
UID:3617-1685883600-1685899800@sfrk.nu
SUMMARY:Pluggstuga
DESCRIPTION:⭐️Pluggstugor!!!?Varmt välkomna! ??Alla som vill är välkomna till USEKs styrelses pluggstugor varannan söndag. Med början av vecka 12 kommer vi från styrelsen spendera varannan söndag\, på jämna veckor\, med er i stallet. Under dagen pluggar och hänger vi med er. ??Vi kommer hålla till i klubbis! Första tillfället är 26 mars vecka 12 och sista tillfället är 18 juni vecka 24. Vi kommer att starta upp runt 13.00 och avluta när stallet stänger omkring 17.30. Detta är ingen aktivitet som kräver anmälan och ni kan därför gå och komma som ni vill under dagen!! Hoppas vi ses där! ??
URL:https://sfrk.nu/kalender/pluggstuga-6/
END:VEVENT
BEGIN:VEVENT
DTSTART;TZID=Europe/Stockholm:20230618T130000
DTEND;TZID=Europe/Stockholm:20230618T173000
DTSTAMP:20260421T211725
CREATED:20230312T100034Z
LAST-MODIFIED:20230312T100035Z
UID:3619-1687093200-1687109400@sfrk.nu
SUMMARY:Pluggstuga
DESCRIPTION:⭐️Pluggstugor!!!?Varmt välkomna! ??Alla som vill är välkomna till USEKs styrelses pluggstugor varannan söndag. Med början av vecka 12 kommer vi från styrelsen spendera varannan söndag\, på jämna veckor\, med er i stallet. Under dagen pluggar och hänger vi med er. ??Vi kommer hålla till i klubbis! Första tillfället är 26 mars vecka 12 och sista tillfället är 18 juni vecka 24. Vi kommer att starta upp runt 13.00 och avluta när stallet stänger omkring 17.30. Detta är ingen aktivitet som kräver anmälan och ni kan därför gå och komma som ni vill under dagen!! Hoppas vi ses där! ??
URL:https://sfrk.nu/kalender/pluggstuga-7/
END:VEVENT
END:VCALENDAR