BEGIN:VCALENDAR
VERSION:2.0
PRODID:-//Solna FRK - ECPv6.15.18//NONSGML v1.0//EN
CALSCALE:GREGORIAN
METHOD:PUBLISH
X-ORIGINAL-URL:https://sfrk.nu
X-WR-CALDESC:Händelser för Solna FRK
REFRESH-INTERVAL;VALUE=DURATION:PT1H
X-Robots-Tag:noindex
X-PUBLISHED-TTL:PT1H
BEGIN:VTIMEZONE
TZID:Europe/Stockholm
BEGIN:DAYLIGHT
TZOFFSETFROM:+0100
TZOFFSETTO:+0200
TZNAME:CEST
DTSTART:20220327T010000
END:DAYLIGHT
BEGIN:STANDARD
TZOFFSETFROM:+0200
TZOFFSETTO:+0100
TZNAME:CET
DTSTART:20221030T010000
END:STANDARD
BEGIN:DAYLIGHT
TZOFFSETFROM:+0100
TZOFFSETTO:+0200
TZNAME:CEST
DTSTART:20230326T010000
END:DAYLIGHT
BEGIN:STANDARD
TZOFFSETFROM:+0200
TZOFFSETTO:+0100
TZNAME:CET
DTSTART:20231029T010000
END:STANDARD
BEGIN:DAYLIGHT
TZOFFSETFROM:+0100
TZOFFSETTO:+0200
TZNAME:CEST
DTSTART:20240331T010000
END:DAYLIGHT
BEGIN:STANDARD
TZOFFSETFROM:+0200
TZOFFSETTO:+0100
TZNAME:CET
DTSTART:20241027T010000
END:STANDARD
END:VTIMEZONE
BEGIN:VEVENT
DTSTART;TZID=Europe/Stockholm:20230122T080000
DTEND;TZID=Europe/Stockholm:20230122T170000
DTSTAMP:20260422T045512
CREATED:20230109T195522Z
LAST-MODIFIED:20230109T195523Z
UID:3131-1674374400-1674406800@sfrk.nu
SUMMARY:Klubbtävling LD\, special och LC junior
DESCRIPTION:
URL:https://sfrk.nu/kalender/klubbtavling-ld-special-och-lc-junior/
END:VEVENT
BEGIN:VEVENT
DTSTART;TZID=Europe/Stockholm:20230129T080000
DTEND;TZID=Europe/Stockholm:20230129T170000
DTSTAMP:20260422T045512
CREATED:20230103T160324Z
LAST-MODIFIED:20230103T160428Z
UID:3040-1674979200-1675011600@sfrk.nu
SUMMARY:Eva-hoppning
DESCRIPTION:
URL:https://sfrk.nu/kalender/eva-hoppning/
END:VEVENT
END:VCALENDAR